BEGIN:VCALENDAR
VERSION:2.0
PRODID:-//hacksw/handcal//NONSGML v1.0//EN
BEGIN:VEVENT
UID:webmaster@cooper.edu
DTSTAMP; TZID=America/New_York:20170130T190000
ORGANIZER;CN=The Cooper Union:MAILTO:webmaster@cooper.edu
DTSTART; TZID=America/New_York:20170130T190000
DTEND; TZID=America/New_York:20170130T203000
SUMMARY:Georges & George
DESCRIPTION:Writer Jarrett Earnest and artist Allyson Vieira will discuss Georges de La Tour's painting "The Penitent Magdalen” in relation to George Kubler's book "The Shape of Time." This event is free and open to the public
END:VEVENT
END:VCALENDAR
