BEGIN:VCALENDAR
VERSION:2.0
PRODID:-//hacksw/handcal//NONSGML v1.0//EN
BEGIN:VEVENT
UID:webmaster@cooper.edu
DTSTAMP; TZID=America/New_York:20170120T160000
ORGANIZER;CN=The Cooper Union:MAILTO:webmaster@cooper.edu
DTSTART; TZID=America/New_York:20170120T160000
DTEND; TZID=America/New_York:20170118T200000
SUMMARY:Dispatch Party
DESCRIPTION:The Cooper Union and Vera List Center for Art and Politics are offering a space to gather, make signs and share organizing efforts
END:VEVENT
END:VCALENDAR
