BEGIN:VCALENDAR
VERSION:2.0
PRODID:-//hacksw/handcal//NONSGML v1.0//EN
BEGIN:VEVENT
UID:webmaster@cooper.edu
DTSTAMP; TZID=America/New_York:20170331T190000
ORGANIZER;CN=The Cooper Union:MAILTO:webmaster@cooper.edu
DTSTART; TZID=America/New_York:20170331T190000
DTEND; TZID=America/New_York:20170331T210000
SUMMARY:Current Work: Kengo Kuma
DESCRIPTION:Kengo Kuma of Kengo Kuma and Associates will present his firm’s work in a public lecture
END:VEVENT
END:VCALENDAR
