BEGIN:VCALENDAR
VERSION:2.0
PRODID:-//hacksw/handcal//NONSGML v1.0//EN
BEGIN:VEVENT
UID:webmaster@cooper.edu
DTSTAMP; TZID=America/New_York:20170405T190000
ORGANIZER;CN=The Cooper Union:MAILTO:webmaster@cooper.edu
DTSTART; TZID=America/New_York:20170405T190000
DTEND; TZID=America/New_York:20170405T210000
SUMMARY:Schools of Thought, Current Work: Nader Tehrani, NADAAA
DESCRIPTION:Nader Tehrani will present his work with NADAAA in a public lecture.&nbsp;
END:VEVENT
END:VCALENDAR
