BEGIN:VCALENDAR
VERSION:2.0
PRODID:-//hacksw/handcal//NONSGML v1.0//EN
BEGIN:VEVENT
UID:webmaster@cooper.edu
DTSTAMP; TZID=America/New_York:20170321T190000
ORGANIZER;CN=The Cooper Union:MAILTO:webmaster@cooper.edu
DTSTART; TZID=America/New_York:20170321T190000
DTEND; TZID=America/New_York:20170321T210000
SUMMARY:Current Work: Lene Tranberg, Lundgaard & Tranberg Architects
DESCRIPTION:Lene Tranberg of Lundgaard & Tranberg Architects will present her firm’s work
END:VEVENT
END:VCALENDAR
