BEGIN:VCALENDAR
VERSION:2.0
PRODID:-//hacksw/handcal//NONSGML v1.0//EN
BEGIN:VEVENT
UID:webmaster@cooper.edu
DTSTAMP; TZID=America/New_York:20170219T150000
ORGANIZER;CN=The Cooper Union:MAILTO:webmaster@cooper.edu
DTSTART; TZID=America/New_York:20170219T150000
DTEND; TZID=America/New_York:20170219T170000
SUMMARY:Olin Conductorless Orchestra
DESCRIPTION:The innovative ensemble that performs collaboratively presents a free concert of classic and contemporary works
END:VEVENT
END:VCALENDAR
