BEGIN:VCALENDAR
VERSION:2.0
PRODID:-//hacksw/handcal//NONSGML v1.0//EN
BEGIN:VEVENT
UID:webmaster@cooper.edu
DTSTAMP; TZID=America/New_York:20161118T183000
ORGANIZER;CN=The Cooper Union:MAILTO:webmaster@cooper.edu
DTSTART; TZID=America/New_York:20161118T183000
DTEND; TZID=America/New_York:20161118T203000
SUMMARY:Student Lecture Series: Beatriz Colomina
DESCRIPTION:Prof. Beatriz Colomina will present a lecture titled "Privacy and Publicity".&nbsp;
END:VEVENT
END:VCALENDAR
