BEGIN:VCALENDAR
VERSION:2.0
PRODID:-//hacksw/handcal//NONSGML v1.0//EN
BEGIN:VEVENT
UID:webmaster@cooper.edu
DTSTAMP; TZID=America/New_York:20161206T190000
ORGANIZER;CN=The Cooper Union:MAILTO:webmaster@cooper.edu
DTSTART; TZID=America/New_York:20161206T190000
DTEND; TZID=America/New_York:20161206T203000
SUMMARY:The "Brooklyn Rail" as Social Environment
DESCRIPTION:Phong Bui, the co-founder and artistic director of the monthly journal,  gives a free, public talk
END:VEVENT
END:VCALENDAR
