BEGIN:VCALENDAR
VERSION:2.0
PRODID:-//hacksw/handcal//NONSGML v1.0//EN
BEGIN:VEVENT
UID:webmaster@cooper.edu
DTSTAMP; TZID=America/New_York:20161122T193000
ORGANIZER;CN=The Cooper Union:MAILTO:webmaster@cooper.edu
DTSTART; TZID=America/New_York:20161122T193000
DTEND; TZID=America/New_York:20161122T213000
SUMMARY:1968: A Frame of Reference
DESCRIPTION:Diana Agrest, Anthony Vidler, Elizabeth O'Donnell and Nader Tehrani will engage the School of Architecture in a roundtable discussion reflecting on 1968 as a frame of reference.
END:VEVENT
END:VCALENDAR
