BEGIN:VCALENDAR
VERSION:2.0
PRODID:-//hacksw/handcal//NONSGML v1.0//EN
BEGIN:VEVENT
UID:webmaster@cooper.edu
DTSTAMP; TZID=America/New_York:20161115T190000
ORGANIZER;CN=The Cooper Union:MAILTO:webmaster@cooper.edu
DTSTART; TZID=America/New_York:20161115T190000
DTEND; TZID=America/New_York:20161115T203000
SUMMARY:Intradisciplinary Seminar: William Villalongo
DESCRIPTION:In a free, public event William Villalongo A'99 will present some of his works and discuss his co-curating the "Black Pulp!" exhibition at the International Print Center New York
END:VEVENT
END:VCALENDAR
