BEGIN:VCALENDAR
VERSION:2.0
PRODID:-//hacksw/handcal//NONSGML v1.0//EN
BEGIN:VEVENT
UID:webmaster@cooper.edu
DTSTAMP; TZID=America/New_York:20170119T183000
ORGANIZER;CN=The Cooper Union:MAILTO:webmaster@cooper.edu
DTSTART; TZID=America/New_York:20170119T183000
DTEND; TZID=America/New_York:20170119T200000
SUMMARY:Nobel Prize-winner Eric R. Kandel Discusses Art and the Brain
DESCRIPTION:In a free, public lecture Dr. Kandel demonstrates how science can inform the way we experience a work of art and seek to understand its meaning
END:VEVENT
END:VCALENDAR
