BEGIN:VCALENDAR
VERSION:2.0
PRODID:-//hacksw/handcal//NONSGML v1.0//EN
BEGIN:VEVENT
UID:webmaster@cooper.edu
DTSTAMP; TZID=America/New_York:20161104T150000
ORGANIZER;CN=The Cooper Union:MAILTO:webmaster@cooper.edu
DTSTART; TZID=America/New_York:20161104T150000
DTEND; TZID=America/New_York:20161104T170000
SUMMARY:Jimenez Lai: Five Recent Lessons
DESCRIPTION:Founder of Bureau Spectacular, Jimenez Lai will give a presentation on his&nbsp;work. &nbsp;
END:VEVENT
END:VCALENDAR
