BEGIN:VCALENDAR
VERSION:2.0
PRODID:-//hacksw/handcal//NONSGML v1.0//EN
BEGIN:VEVENT
UID:webmaster@cooper.edu
DTSTAMP; TZID=America/New_York:20161031T193000
ORGANIZER;CN=The Cooper Union:MAILTO:webmaster@cooper.edu
DTSTART; TZID=America/New_York:20161031T193000
DTEND; TZID=America/New_York:20161031T213000
SUMMARY:Advancing Architecture's Discourse: A Conversation with Patrik Schumacher
DESCRIPTION:Dean Nader Tehrani and Associate Professor Adjunct Pablo Lorenzo-Eiroa will join Patrik Schumacher in conversation about his work.&nbsp;
END:VEVENT
END:VCALENDAR
