BEGIN:VCALENDAR
VERSION:2.0
PRODID:-//hacksw/handcal//NONSGML v1.0//EN
BEGIN:VEVENT
UID:webmaster@cooper.edu
DTSTAMP; TZID=America/New_York:20161025T140000
ORGANIZER;CN=The Cooper Union:MAILTO:webmaster@cooper.edu
DTSTART; TZID=America/New_York:20161025T140000
DTEND; TZID=America/New_York:20161025T160000
SUMMARY:Manual of Section: Marc Tsurumaki and Paul Lewis of LTL
DESCRIPTION:Paul Lewis and Marc Tsurumaki will present on LTL Architects'&nbsp;work.&nbsp;
END:VEVENT
END:VCALENDAR
