BEGIN:VCALENDAR
VERSION:2.0
PRODID:-//hacksw/handcal//NONSGML v1.0//EN
BEGIN:VEVENT
UID:webmaster@cooper.edu
DTSTAMP; TZID=America/New_York:20171003T121500
ORGANIZER;CN=The Cooper Union:MAILTO:webmaster@cooper.edu
DTSTART; TZID=America/New_York:20171003T121500
DTEND; TZID=America/New_York:20171003T141500
SUMMARY:The Architectural Experience Program (AXP®)
DESCRIPTION:Presentation by Assistant Professor Adjunct Michael Samuelian covering everything you need to know about the Architectural Experience Program (AXP®).&nbsp;
END:VEVENT
END:VCALENDAR
