BEGIN:VCALENDAR
VERSION:2.0
PRODID:-//hacksw/handcal//NONSGML v1.0//EN
BEGIN:VEVENT
UID:webmaster@cooper.edu
DTSTAMP; TZID=America/New_York:20161101T190000
ORGANIZER;CN=The Cooper Union:MAILTO:webmaster@cooper.edu
DTSTART; TZID=America/New_York:20161101T190000
DTEND; TZID=America/New_York:20161101T203000
SUMMARY:The Interdisciplinary Seminar: Mike Essl
DESCRIPTION:In a free, public discussion, Mike Essl, head of the graphic design department of the School of Art and its acting dean, talks about&nbsp;Hollywood tyrants, witness waylaid designs and typographic transformations!
END:VEVENT
END:VCALENDAR
