BEGIN:VCALENDAR
VERSION:2.0
PRODID:-//hacksw/handcal//NONSGML v1.0//EN
BEGIN:VEVENT
UID:webmaster@cooper.edu
DTSTAMP; TZID=America/New_York:20161025T190000
ORGANIZER;CN=The Cooper Union:MAILTO:webmaster@cooper.edu
DTSTART; TZID=America/New_York:20161025T190000
DTEND; TZID=America/New_York:20161025T203000
SUMMARY:Organization & Ruin
DESCRIPTION:In a free, public presentation architect Benjamin Aranda presents a series of architectural and design projects from the last decade of practice that propose new narratives informed by the complication of matter
END:VEVENT
END:VCALENDAR
