BEGIN:VCALENDAR
VERSION:2.0
PRODID:-//hacksw/handcal//NONSGML v1.0//EN
BEGIN:VEVENT
UID:webmaster@cooper.edu
DTSTAMP; TZID=America/New_York:20161030T124500
ORGANIZER;CN=The Cooper Union:MAILTO:webmaster@cooper.edu
DTSTART; TZID=America/New_York:20161030T124500
DTEND; TZID=America/New_York:20161030T170000
SUMMARY:Prospective Architecture Students Open House 2016
DESCRIPTION:Registration for the School of Architecture Open House on Sunday, October 30th is now available
END:VEVENT
END:VCALENDAR
