BEGIN:VCALENDAR
VERSION:2.0
PRODID:-//hacksw/handcal//NONSGML v1.0//EN
BEGIN:VEVENT
UID:webmaster@cooper.edu
DTSTAMP; TZID=America/New_York:20161011T120000
ORGANIZER;CN=The Cooper Union:MAILTO:webmaster@cooper.edu
DTSTART; TZID=America/New_York:20161011T120000
DTEND; TZID=America/New_York:20161011T140000
SUMMARY:Not What, But Why: In Conversation with Tod Williams and Billie Tsien
DESCRIPTION:Event will take place in room 315F. Lunch will follow in the School of Architecture lobby.
END:VEVENT
END:VCALENDAR
