BEGIN:VCALENDAR
VERSION:2.0
PRODID:-//hacksw/handcal//NONSGML v1.0//EN
BEGIN:VEVENT
UID:webmaster@cooper.edu
DTSTAMP; TZID=America/New_York:20161006T120000
ORGANIZER;CN=The Cooper Union:MAILTO:webmaster@cooper.edu
DTSTART; TZID=America/New_York:20161006T120000
DTEND; TZID=America/New_York:20161006T140000
SUMMARY:The Unknown Jane Jacobs: A Conversation with Peter Laurence
DESCRIPTION:Guest lecture in Visiting Professor Joan Ockman’s ARCH 205.05 Advanced
Concepts class in Room 714F.
END:VEVENT
END:VCALENDAR
