BEGIN:VCALENDAR
VERSION:2.0
PRODID:-//hacksw/handcal//NONSGML v1.0//EN
BEGIN:VEVENT
UID:webmaster@cooper.edu
DTSTAMP; TZID=America/New_York:20161029T160000
ORGANIZER;CN=The Cooper Union:MAILTO:webmaster@cooper.edu
DTSTART; TZID=America/New_York:20161029T160000
DTEND; TZID=America/New_York:20161029T180000
SUMMARY:Analogical Mapping and Indirect Procedures
DESCRIPTION:Judith Leemann and Kenneth Bailey, of Design Studio for Social Intervention, provide a brief survey of their working methods
END:VEVENT
END:VCALENDAR
