BEGIN:VCALENDAR
VERSION:2.0
PRODID:-//hacksw/handcal//NONSGML v1.0//EN
BEGIN:VEVENT
UID:webmaster@cooper.edu
DTSTAMP; TZID=America/New_York:20161015T170000
ORGANIZER;CN=The Cooper Union:MAILTO:webmaster@cooper.edu
DTSTART; TZID=America/New_York:20161015T170000
DTEND; TZID=America/New_York:20161015T200000
SUMMARY:Calling in Sick
DESCRIPTION:A free workshop to consider how we speak and feel about the body in states of debility
END:VEVENT
END:VCALENDAR
