BEGIN:VCALENDAR
VERSION:2.0
PRODID:-//hacksw/handcal//NONSGML v1.0//EN
BEGIN:VEVENT
UID:webmaster@cooper.edu
DTSTAMP; TZID=America/New_York:20161015T150000
ORGANIZER;CN=The Cooper Union:MAILTO:webmaster@cooper.edu
DTSTART; TZID=America/New_York:20161015T150000
DTEND; TZID=America/New_York:20161015T160000
SUMMARY:Talking Whiteboards
DESCRIPTION:A free conversation with Adelheid Mers, artist and professor at the School of the Arts Institute of Chicago
END:VEVENT
END:VCALENDAR
