BEGIN:VCALENDAR
VERSION:2.0
PRODID:-//hacksw/handcal//NONSGML v1.0//EN
BEGIN:VEVENT
UID:webmaster@cooper.edu
DTSTAMP; TZID=America/New_York:20161105T160000
ORGANIZER;CN=The Cooper Union:MAILTO:webmaster@cooper.edu
DTSTART; TZID=America/New_York:20161105T160000
DTEND; TZID=America/New_York:20161105T180000
SUMMARY:Operator’s Manual for Context X by Extrapolation Factory
DESCRIPTION:The Extrapolation Factory is an imagination-based studio for design-led futures studies. This event is being held in conjunction with the exhibition WOUND.
END:VEVENT
END:VCALENDAR
