BEGIN:VCALENDAR
VERSION:2.0
PRODID:-//hacksw/handcal//NONSGML v1.0//EN
BEGIN:VEVENT
UID:webmaster@cooper.edu
DTSTAMP; TZID=America/New_York:20161111T180000
ORGANIZER;CN=The Cooper Union:MAILTO:webmaster@cooper.edu
DTSTART; TZID=America/New_York:20161111T180000
DTEND; TZID=America/New_York:20161111T200000
SUMMARY:I Can't Breathe by Shaun Leonardo
DESCRIPTION:I Can't Breathe is a public-participatory workshop and performance that will take the form of a self-defense class. It is being held in conjunction with the exhibition WOUND.
END:VEVENT
END:VCALENDAR
