BEGIN:VCALENDAR
VERSION:2.0
PRODID:-//hacksw/handcal//NONSGML v1.0//EN
BEGIN:VEVENT
UID:webmaster@cooper.edu
DTSTAMP; TZID=America/New_York:20161020T180000
ORGANIZER;CN=The Cooper Union:MAILTO:webmaster@cooper.edu
DTSTART; TZID=America/New_York:20161020T180000
DTEND; TZID=America/New_York:20161020T200000
SUMMARY:Practice Sessions by Ultra-red
DESCRIPTION:Ultra-red’s three-part “Practice Sessions” introduces the basics of the sound art collective’s practice. The events are being held in conjunction with the exhibition WOUND.
END:VEVENT
END:VCALENDAR
BEGIN:VCALENDAR
VERSION:2.0
PRODID:-//hacksw/handcal//NONSGML v1.0//EN
BEGIN:VEVENT
UID:webmaster@cooper.edu
DTSTAMP; TZID=America/New_York:20161027T180000
ORGANIZER;CN=The Cooper Union:MAILTO:webmaster@cooper.edu
DTSTART; TZID=America/New_York:20161027T180000
DTEND; TZID=America/New_York:20161027T200000
SUMMARY:Practice Sessions by Ultra-red
DESCRIPTION:Ultra-red’s three-part “Practice Sessions” introduces the basics of the sound art collective’s practice. The events are being held in conjunction with the exhibition WOUND.
END:VEVENT
END:VCALENDAR
BEGIN:VCALENDAR
VERSION:2.0
PRODID:-//hacksw/handcal//NONSGML v1.0//EN
BEGIN:VEVENT
UID:webmaster@cooper.edu
DTSTAMP; TZID=America/New_York:20161103T180000
ORGANIZER;CN=The Cooper Union:MAILTO:webmaster@cooper.edu
DTSTART; TZID=America/New_York:20161103T180000
DTEND; TZID=America/New_York:20161103T200000
SUMMARY:Practice Sessions by Ultra-red
DESCRIPTION:Ultra-red’s three-part “Practice Sessions” introduces the basics of the sound art collective’s practice. The events are being held in conjunction with the exhibition WOUND.
END:VEVENT
END:VCALENDAR
