BEGIN:VCALENDAR
VERSION:2.0
PRODID:-//hacksw/handcal//NONSGML v1.0//EN
BEGIN:VEVENT
UID:webmaster@cooper.edu
DTSTAMP; TZID=America/New_York:20161004T190000
ORGANIZER;CN=The Cooper Union:MAILTO:webmaster@cooper.edu
DTSTART; TZID=America/New_York:20161004T190000
DTEND; TZID=America/New_York:20161004T203000
SUMMARY:L'hôte: Within the Context of Geo-Aesthetics
DESCRIPTION:A free, public conversation the artist Maria Nordman as part of the Intradisciplinary Seminar series
END:VEVENT
END:VCALENDAR
