BEGIN:VCALENDAR
VERSION:2.0
PRODID:-//hacksw/handcal//NONSGML v1.0//EN
BEGIN:VEVENT
UID:webmaster@cooper.edu
DTSTAMP; TZID=America/New_York:20161115T190000
ORGANIZER;CN=The Cooper Union:MAILTO:webmaster@cooper.edu
DTSTART; TZID=America/New_York:20161115T190000
DTEND; TZID=America/New_York:20161115T210000
SUMMARY:Donald Judd Writings
DESCRIPTION:A free, open panel discussion on the artist Donald Judd's relationship to the written word. Panelists include Flavin Judd, Roberta Smith, Ann Temkin and Michael Govan
END:VEVENT
END:VCALENDAR
