BEGIN:VCALENDAR
VERSION:2.0
PRODID:-//hacksw/handcal//NONSGML v1.0//EN
BEGIN:VEVENT
UID:webmaster@cooper.edu
DTSTAMP; TZID=America/New_York:20160929T183000
ORGANIZER;CN=The Cooper Union:MAILTO:webmaster@cooper.edu
DTSTART; TZID=America/New_York:20160929T183000
DTEND; TZID=America/New_York:20160929T200000
SUMMARY:Ethics in the Real World
DESCRIPTION:A free, public talk by Peter Singer about his latest book of essays on current issues of philosophy
END:VEVENT
END:VCALENDAR
