BEGIN:VCALENDAR
VERSION:2.0
PRODID:-//hacksw/handcal//NONSGML v1.0//EN
BEGIN:VEVENT
UID:webmaster@cooper.edu
DTSTAMP; TZID=America/New_York:20161013T180000
ORGANIZER;CN=The Cooper Union:MAILTO:webmaster@cooper.edu
DTSTART; TZID=America/New_York:20161013T180000
DTEND; TZID=America/New_York:20161111T180000
SUMMARY:WOUND: mending time and attention
DESCRIPTION:WOUND is a study center for practices of listening and collaboration that has been conceived of and designed by Caroline Woolard A'07
END:VEVENT
END:VCALENDAR
