BEGIN:VCALENDAR
VERSION:2.0
PRODID:-//hacksw/handcal//NONSGML v1.0//EN
BEGIN:VEVENT
UID:webmaster@cooper.edu
DTSTAMP; TZID=America/New_York:20160927T190000
ORGANIZER;CN=The Cooper Union:MAILTO:webmaster@cooper.edu
DTSTART; TZID=America/New_York:20160927T190000
DTEND; TZID=America/New_York:20160927T210000
SUMMARY:Ekphrasis Today: A Conversation with Lucas Zwirner
DESCRIPTION:A free, public conversation on the nature of writing about art with the editor of a new series of paperbacks published by David Zwirner Books
END:VEVENT
END:VCALENDAR
