BEGIN:VCALENDAR
VERSION:2.0
PRODID:-//hacksw/handcal//NONSGML v1.0//EN
BEGIN:VEVENT
UID:webmaster@cooper.edu
DTSTAMP; TZID=America/New_York:20160913T190000
ORGANIZER;CN=The Cooper Union:MAILTO:webmaster@cooper.edu
DTSTART; TZID=America/New_York:20160913T190000
DTEND; TZID=America/New_York:20160913T210000
SUMMARY:Intradisciplinary Seminar: House of Ladosha
DESCRIPTION:In a free, public event the Intradisciplinary Seminar welcomes the House of Ladosha, a collective exploration of the “house” philosophy popularized by ballroom culture
END:VEVENT
END:VCALENDAR
