BEGIN:VCALENDAR
VERSION:2.0
PRODID:-//hacksw/handcal//NONSGML v1.0//EN
BEGIN:VEVENT
UID:webmaster@cooper.edu
DTSTAMP; TZID=America/New_York:20161008T190000
ORGANIZER;CN=The Cooper Union:MAILTO:webmaster@cooper.edu
DTSTART; TZID=America/New_York:20161008T190000
DTEND; TZID=America/New_York:20161008T210000
SUMMARY:Reconstructing Comix
DESCRIPTION:A free, public discussion among some of the leading Francophone comic artists discussing, "the 'architecture' of Franco-Belgian graphic narratives, from Tintin to today"
END:VEVENT
END:VCALENDAR
