BEGIN:VCALENDAR
VERSION:2.0
PRODID:-//hacksw/handcal//NONSGML v1.0//EN
BEGIN:VEVENT
UID:webmaster@cooper.edu
DTSTAMP; TZID=America/New_York:20161129T190000
ORGANIZER;CN=The Cooper Union:MAILTO:webmaster@cooper.edu
DTSTART; TZID=America/New_York:20161129T190000
DTEND; TZID=America/New_York:20161129T190000
SUMMARY:Tatiana Bilbao, Current Work: Urban Domesticity
DESCRIPTION:Tatiana Bilbao of Tatiana Bilbao ESTUDIO will present her firm’s work in a public lecture.
END:VEVENT
END:VCALENDAR
