BEGIN:VCALENDAR
VERSION:2.0
PRODID:-//hacksw/handcal//NONSGML v1.0//EN
BEGIN:VEVENT
UID:webmaster@cooper.edu
DTSTAMP; TZID=America/New_York:20160910T100000
ORGANIZER;CN=The Cooper Union:MAILTO:webmaster@cooper.edu
DTSTART; TZID=America/New_York:20160910T100000
DTEND; TZID=America/New_York:20160910T173000
SUMMARY:Is this Swiss?
DESCRIPTION:"Is this Swiss?" is a one-day event devoted to graphic design from Switzerland, with talks, panels and a guided tour of the exhibition “Swiss Style Now”
END:VEVENT
END:VCALENDAR
