BEGIN:VCALENDAR
VERSION:2.0
PRODID:-//hacksw/handcal//NONSGML v1.0//EN
BEGIN:VEVENT
UID:webmaster@cooper.edu
DTSTAMP; TZID=America/New_York:20161107T190000
ORGANIZER;CN=The Cooper Union:MAILTO:webmaster@cooper.edu
DTSTART; TZID=America/New_York:20161107T190000
DTEND; TZID=America/New_York:20161107T190000
SUMMARY:Current Work: Solano Benítez, Gabinete de Arquitectura
DESCRIPTION:Solano Benítez will deliver a lecture on the work of Gabinete de Arquitectura, the firm he founded in partnership with Alberto Marinoni and Gloria Cabral.
END:VEVENT
END:VCALENDAR
