BEGIN:VCALENDAR
VERSION:2.0
PRODID:-//hacksw/handcal//NONSGML v1.0//EN
BEGIN:VEVENT
UID:webmaster@cooper.edu
DTSTAMP; TZID=America/New_York:20161025T190000
ORGANIZER;CN=The Cooper Union:MAILTO:webmaster@cooper.edu
DTSTART; TZID=America/New_York:20161025T190000
DTEND; TZID=America/New_York:20161025T190000
SUMMARY:Current Work: Giancarlo Mazzanti, El Equipo de Mazzanti
DESCRIPTION:Giancarlo Mazzanti will deliver a lecture presenting the work of his firm, El Equipo de Mazzanti.
END:VEVENT
END:VCALENDAR
