BEGIN:VCALENDAR
VERSION:2.0
PRODID:-//hacksw/handcal//NONSGML v1.0//EN
BEGIN:VEVENT
UID:webmaster@cooper.edu
DTSTAMP; TZID=America/New_York:20160828T170000
ORGANIZER;CN=The Cooper Union:MAILTO:webmaster@cooper.edu
DTSTART; TZID=America/New_York:20160828T170000
DTEND; TZID=America/New_York:20160828T210000
SUMMARY:Small Works for Big Change
DESCRIPTION:Small Works for Big Change is an art benefit for the Sylvia Rivera Law Project.
END:VEVENT
END:VCALENDAR
