BEGIN:VCALENDAR
VERSION:2.0
PRODID:-//hacksw/handcal//NONSGML v1.0//EN
BEGIN:VEVENT
UID:webmaster@cooper.edu
DTSTAMP; TZID=America/New_York:20160921T193000
ORGANIZER;CN=The Cooper Union:MAILTO:webmaster@cooper.edu
DTSTART; TZID=America/New_York:20160921T193000
DTEND; TZID=America/New_York:20160921T210000
SUMMARY:The Global Refugee Crisis: A Public Forum
DESCRIPTION:Doctors Without Borders presents a free, public panel focusing on the humanitarian needs and international policy surrounding the global refugee crisis
END:VEVENT
END:VCALENDAR
