BEGIN:VCALENDAR
VERSION:2.0
PRODID:-//hacksw/handcal//NONSGML v1.0//EN
BEGIN:VEVENT
UID:webmaster@cooper.edu
DTSTAMP; TZID=America/New_York:20160913T183000
ORGANIZER;CN=The Cooper Union:MAILTO:webmaster@cooper.edu
DTSTART; TZID=America/New_York:20160913T183000
DTEND; TZID=America/New_York:20160913T200000
SUMMARY:Beyond Words: What Animals Think and Feel
DESCRIPTION:Carl Safina discusses and signs his latest book in a free, public author talk
END:VEVENT
END:VCALENDAR
