BEGIN:VCALENDAR
VERSION:2.0
PRODID:-//hacksw/handcal//NONSGML v1.0//EN
BEGIN:VEVENT
UID:webmaster@cooper.edu
DTSTAMP; TZID=America/New_York:20160912T183000
ORGANIZER;CN=The Cooper Union:MAILTO:webmaster@cooper.edu
DTSTART; TZID=America/New_York:20160912T183000
DTEND; TZID=America/New_York:20160912T193000
SUMMARY:The Constitution Today
DESCRIPTION:A free, public ten-session course on the Constitution taught by Prof. Akhil Reed Amar of Yale Law School
END:VEVENT
END:VCALENDAR
BEGIN:VCALENDAR
VERSION:2.0
PRODID:-//hacksw/handcal//NONSGML v1.0//EN
BEGIN:VEVENT
UID:webmaster@cooper.edu
DTSTAMP; TZID=America/New_York:20160919T183000
ORGANIZER;CN=The Cooper Union:MAILTO:webmaster@cooper.edu
DTSTART; TZID=America/New_York:20160919T183000
DTEND; TZID=America/New_York:20160919T193000
SUMMARY:The Constitution Today
DESCRIPTION:A free, public ten-session course on the Constitution taught by Prof. Akhil Reed Amar of Yale Law School
END:VEVENT
END:VCALENDAR
BEGIN:VCALENDAR
VERSION:2.0
PRODID:-//hacksw/handcal//NONSGML v1.0//EN
BEGIN:VEVENT
UID:webmaster@cooper.edu
DTSTAMP; TZID=America/New_York:20160926T183000
ORGANIZER;CN=The Cooper Union:MAILTO:webmaster@cooper.edu
DTSTART; TZID=America/New_York:20160926T183000
DTEND; TZID=America/New_York:20160926T193000
SUMMARY:The Constitution Today
DESCRIPTION:A free, public ten-session course on the Constitution taught by Prof. Akhil Reed Amar of Yale Law School
END:VEVENT
END:VCALENDAR
BEGIN:VCALENDAR
VERSION:2.0
PRODID:-//hacksw/handcal//NONSGML v1.0//EN
BEGIN:VEVENT
UID:webmaster@cooper.edu
DTSTAMP; TZID=America/New_York:20161010T183000
ORGANIZER;CN=The Cooper Union:MAILTO:webmaster@cooper.edu
DTSTART; TZID=America/New_York:20161010T183000
DTEND; TZID=America/New_York:20161010T193000
SUMMARY:The Constitution Today
DESCRIPTION:A free, public ten-session course on the Constitution taught by Prof. Akhil Reed Amar of Yale Law School
END:VEVENT
END:VCALENDAR
BEGIN:VCALENDAR
VERSION:2.0
PRODID:-//hacksw/handcal//NONSGML v1.0//EN
BEGIN:VEVENT
UID:webmaster@cooper.edu
DTSTAMP; TZID=America/New_York:20161017T183000
ORGANIZER;CN=The Cooper Union:MAILTO:webmaster@cooper.edu
DTSTART; TZID=America/New_York:20161017T183000
DTEND; TZID=America/New_York:20161017T193000
SUMMARY:The Constitution Today
DESCRIPTION:A free, public ten-session course on the Constitution taught by Prof. Akhil Reed Amar of Yale Law School
END:VEVENT
END:VCALENDAR
BEGIN:VCALENDAR
VERSION:2.0
PRODID:-//hacksw/handcal//NONSGML v1.0//EN
BEGIN:VEVENT
UID:webmaster@cooper.edu
DTSTAMP; TZID=America/New_York:20161024T183000
ORGANIZER;CN=The Cooper Union:MAILTO:webmaster@cooper.edu
DTSTART; TZID=America/New_York:20161024T183000
DTEND; TZID=America/New_York:20161024T193000
SUMMARY:The Constitution Today
DESCRIPTION:A free, public ten-session course on the Constitution taught by Prof. Akhil Reed Amar of Yale Law School
END:VEVENT
END:VCALENDAR
BEGIN:VCALENDAR
VERSION:2.0
PRODID:-//hacksw/handcal//NONSGML v1.0//EN
BEGIN:VEVENT
UID:webmaster@cooper.edu
DTSTAMP; TZID=America/New_York:20161031T183000
ORGANIZER;CN=The Cooper Union:MAILTO:webmaster@cooper.edu
DTSTART; TZID=America/New_York:20161031T183000
DTEND; TZID=America/New_York:20161031T193000
SUMMARY:The Constitution Today
DESCRIPTION:A free, public ten-session course on the Constitution taught by Prof. Akhil Reed Amar of Yale Law School
END:VEVENT
END:VCALENDAR
BEGIN:VCALENDAR
VERSION:2.0
PRODID:-//hacksw/handcal//NONSGML v1.0//EN
BEGIN:VEVENT
UID:webmaster@cooper.edu
DTSTAMP; TZID=America/New_York:20161114T183000
ORGANIZER;CN=The Cooper Union:MAILTO:webmaster@cooper.edu
DTSTART; TZID=America/New_York:20161114T183000
DTEND; TZID=America/New_York:20161114T193000
SUMMARY:The Constitution Today
DESCRIPTION:A free, public ten-session course on the Constitution taught by Prof. Akhil Reed Amar of Yale Law School
END:VEVENT
END:VCALENDAR
BEGIN:VCALENDAR
VERSION:2.0
PRODID:-//hacksw/handcal//NONSGML v1.0//EN
BEGIN:VEVENT
UID:webmaster@cooper.edu
DTSTAMP; TZID=America/New_York:20161121T183000
ORGANIZER;CN=The Cooper Union:MAILTO:webmaster@cooper.edu
DTSTART; TZID=America/New_York:20161121T183000
DTEND; TZID=America/New_York:20161121T193000
SUMMARY:The Constitution Today
DESCRIPTION:A free, public ten-session course on the Constitution taught by Prof. Akhil Reed Amar of Yale Law School
END:VEVENT
END:VCALENDAR
BEGIN:VCALENDAR
VERSION:2.0
PRODID:-//hacksw/handcal//NONSGML v1.0//EN
BEGIN:VEVENT
UID:webmaster@cooper.edu
DTSTAMP; TZID=America/New_York:20161128T183000
ORGANIZER;CN=The Cooper Union:MAILTO:webmaster@cooper.edu
DTSTART; TZID=America/New_York:20161128T183000
DTEND; TZID=America/New_York:20161128T193000
SUMMARY:The Constitution Today
DESCRIPTION:A free, public ten-session course on the Constitution taught by Prof. Akhil Reed Amar of Yale Law School
END:VEVENT
END:VCALENDAR
