BEGIN:VCALENDAR
VERSION:2.0
PRODID:-//hacksw/handcal//NONSGML v1.0//EN
BEGIN:VEVENT
UID:webmaster@cooper.edu
DTSTAMP; TZID=America/New_York:20160527T170000
ORGANIZER;CN=The Cooper Union:MAILTO:webmaster@cooper.edu
DTSTART; TZID=America/New_York:20160527T170000
DTEND; TZID=America/New_York:20160527T220000
SUMMARY:A Sculptural Symposium?
DESCRIPTION:Q: What are you bringing to dinner?
A: We bring to the table sculptural synergy and loquacious energy to probe at the investigations of dialogue, contact, and controversy. 
END:VEVENT
END:VCALENDAR
