BEGIN:VCALENDAR
VERSION:2.0
PRODID:-//hacksw/handcal//NONSGML v1.0//EN
BEGIN:VEVENT
UID:webmaster@cooper.edu
DTSTAMP; TZID=America/New_York:20160725T183000
ORGANIZER;CN=The Cooper Union:MAILTO:webmaster@cooper.edu
DTSTART; TZID=America/New_York:20160725T183000
DTEND; TZID=America/New_York:20160725T200000
SUMMARY:Hudson Valley Ruins
DESCRIPTION:Thomas Rinaldi will deliver a free, public lecture about his book, New York Neon, which chronicles and documents New York's surviving early- and mid-twentieth-century neon signs
END:VEVENT
END:VCALENDAR
