BEGIN:VCALENDAR
VERSION:2.0
PRODID:-//hacksw/handcal//NONSGML v1.0//EN
BEGIN:VEVENT
UID:webmaster@cooper.edu
DTSTAMP; TZID=America/New_York:20160613T183000
ORGANIZER;CN=The Cooper Union:MAILTO:webmaster@cooper.edu
DTSTART; TZID=America/New_York:20160613T183000
DTEND; TZID=America/New_York:20160613T200000
SUMMARY:Brand Type for Publications
DESCRIPTION:A free, public lecture by Roger Black focusing on three case studies of typography associated with a magazine brand, until it wasn't: Rolling Stone, Newsweek and Premier
END:VEVENT
END:VCALENDAR
