BEGIN:VCALENDAR
VERSION:2.0
PRODID:-//hacksw/handcal//NONSGML v1.0//EN
BEGIN:VEVENT
UID:webmaster@cooper.edu
DTSTAMP; TZID=America/New_York:20160711T183000
ORGANIZER;CN=The Cooper Union:MAILTO:webmaster@cooper.edu
DTSTART; TZID=America/New_York:20160711T183000
DTEND; TZID=America/New_York:20160711T200000
SUMMARY:The Practice of Typography: Theodore De Vinne’s Lifelong Devotion to Type
DESCRIPTION:A free, public lecture on the printer and type designer Theodore De Vinne (1828-1914) by his biographer, Irene Tichenor
END:VEVENT
END:VCALENDAR
