BEGIN:VCALENDAR
VERSION:2.0
PRODID:-//hacksw/handcal//NONSGML v1.0//EN
BEGIN:VEVENT
UID:webmaster@cooper.edu
DTSTAMP; TZID=America/New_York:20160620T183000
ORGANIZER;CN=The Cooper Union:MAILTO:webmaster@cooper.edu
DTSTART; TZID=America/New_York:20160620T183000
DTEND; TZID=America/New_York:20160620T200000
SUMMARY:Ewan Clayton: What Is Writing?
DESCRIPTION:In this free, public lecture Ewan Clayton will ask if writing will survive the digital transformation of our culture and, more fundamentally, what is writing and what work does it do for us?
END:VEVENT
END:VCALENDAR
