BEGIN:VCALENDAR
VERSION:2.0
PRODID:-//hacksw/handcal//NONSGML v1.0//EN
BEGIN:VEVENT
UID:webmaster@cooper.edu
DTSTAMP; TZID=America/New_York:20160512T190000
ORGANIZER;CN=The Cooper Union:MAILTO:webmaster@cooper.edu
DTSTART; TZID=America/New_York:20160512T190000
DTEND; TZID=America/New_York:20160512T213000
SUMMARY:James Connolly's New York
DESCRIPTION:New York Irish musicians, writers and storytellers perform in tribute to James Connolly on the stage where he spoke in 1902 in a free, public event
END:VEVENT
END:VCALENDAR
