BEGIN:VCALENDAR
VERSION:2.0
PRODID:-//hacksw/handcal//NONSGML v1.0//EN
BEGIN:VEVENT
UID:webmaster@cooper.edu
DTSTAMP; TZID=America/New_York:20160524T103000
ORGANIZER;CN=The Cooper Union:MAILTO:webmaster@cooper.edu
DTSTART; TZID=America/New_York:20160524T103000
DTEND; TZID=America/New_York:20160524T123000
SUMMARY:Commencement 2016
DESCRIPTION:The 157th graduating class shifts their tassles
END:VEVENT
END:VCALENDAR
