BEGIN:VCALENDAR
VERSION:2.0
PRODID:-//hacksw/handcal//NONSGML v1.0//EN
BEGIN:VEVENT
UID:webmaster@cooper.edu
DTSTAMP; TZID=America/New_York:20160524T183000
ORGANIZER;CN=The Cooper Union:MAILTO:webmaster@cooper.edu
DTSTART; TZID=America/New_York:20160524T183000
DTEND; TZID=America/New_York:20160524T200000
SUMMARY:Seymour Chwast A'51 in Conversation with Steve Heller
DESCRIPTION:This free, public event will address the idea of designers as authors, activists, and artists—with an emphasis on Seymour’s new book: "Seymour Chwast At War with War"
END:VEVENT
END:VCALENDAR
