BEGIN:VCALENDAR
VERSION:2.0
PRODID:-//hacksw/handcal//NONSGML v1.0//EN
BEGIN:VEVENT
UID:webmaster@cooper.edu
DTSTAMP; TZID=America/New_York:20160504T180000
ORGANIZER;CN=The Cooper Union:MAILTO:webmaster@cooper.edu
DTSTART; TZID=America/New_York:20160504T180000
DTEND; TZID=America/New_York:20160504T193000
SUMMARY:A Free, Public Lecture by Artist Sara VanDerBeek A'98
DESCRIPTION:The Spring 2016 Henry Wolf Chair in Photography Lecture will be delivered by Sara VanDerBeek, best known for photographing sculptures of her own making
END:VEVENT
END:VCALENDAR
